BEGIN:VCALENDAR
VERSION:2.0
PRODID:-//Vector Global Logistics - ECPv6.15.20//NONSGML v1.0//EN
CALSCALE:GREGORIAN
METHOD:PUBLISH
X-WR-CALNAME:Vector Global Logistics
X-ORIGINAL-URL:https://vectorgl.com
X-WR-CALDESC:Events for Vector Global Logistics
REFRESH-INTERVAL;VALUE=DURATION:PT1H
X-Robots-Tag:noindex
X-PUBLISHED-TTL:PT1H
BEGIN:VTIMEZONE
TZID:UTC
BEGIN:STANDARD
TZOFFSETFROM:+0000
TZOFFSETTO:+0000
TZNAME:UTC
DTSTART:20250101T000000
END:STANDARD
END:VTIMEZONE
BEGIN:VEVENT
DTSTART;VALUE=DATE:20260309
DTEND;VALUE=DATE:20260314
DTSTAMP:20260421T140245
CREATED:20260212T213301Z
LAST-MODIFIED:20260212T213301Z
UID:69994-1773014400-1773446399@vectorgl.com
SUMMARY:WCA Worldwide Conference 2026
DESCRIPTION:Vector Global Logistics will be attending the WCA Worldwide Conference 2026\, one of the most significant global gatherings of independent freight forwarders and logistics leaders. \nHosted by WCAworld\, this annual conference brings together thousands of logistics professionals from across the world to strengthen strategic partnerships\, explore new trade opportunities\, and enhance collaboration across air\, ocean\, and multimodal supply chains. \nRepresenting Vector Global Logistics\, Dariya and Nuria will be on-site engaging with global partners\, reinforcing trusted relationships\, and identifying new opportunities to support resilient\, future-ready supply chains. \nIf you are attending and would like to connect\, we would welcome the opportunity to schedule a meeting. \nDariya Mykyta: dariya.mykyta@vectorgl.com \nNuria Sierra: nuria.sierra@vectorgl.com \n\n 
URL:https://vectorgl.com/event/wca-worldwide-conference-2026/
LOCATION:Sands Expo & Convention Centre (Marina Bay Sands)\, Singapore
END:VEVENT
BEGIN:VEVENT
DTSTART;VALUE=DATE:20260310
DTEND;VALUE=DATE:20260313
DTSTAMP:20260421T140245
CREATED:20260306T022504Z
LAST-MODIFIED:20260306T022504Z
UID:70002-1773100800-1773359999@vectorgl.com
SUMMARY:Expo Logística Panamá - 2026
DESCRIPTION:EXPO LOGÍSTICA PANAMÁ se llevará a cabo en el Panama Convention Center\, en Ciudad de Panamá\, reuniendo a empresas locales e internacionales en más de 100 espacios de exhibición dedicados a soluciones de logística\, transporte y servicios multimodales. \nDurante el evento\, Oscar Mercado\, Operations Manager de Vector Global Logistics\, estará presente representando a nuestro equipo para conversar sobre soluciones logísticas\, explorar oportunidades de colaboración y compartir cómo podemos apoyar cadenas de suministro más ágiles y eficientes. \nSi asistirás al evento\, te invitamos a conectar con nosotros y agendar una reunión. \nContacto:oscar.mercado@vectorgl.com
URL:https://vectorgl.com/event/expo-logistica-panama-2026/
LOCATION:Panama\, PANAMA CONVENTION CENTER\, Panama City
END:VEVENT
BEGIN:VEVENT
DTSTART;VALUE=DATE:20260318
DTEND;VALUE=DATE:20260320
DTSTAMP:20260421T140245
CREATED:20260317T202054Z
LAST-MODIFIED:20260317T202054Z
UID:70008-1773792000-1773964799@vectorgl.com
SUMMARY:THE LOGISTICS WORLD | SUMMIT & EXPO 
DESCRIPTION:The Logistics World Summit & Expo 2026\n18 y 19 de marzo | Ciudad de México \nNuestra compañera de Human Capital\, Ailed Mérida\, estara presente\, representando a Vector en The Logistics World Summit & Expo\, uno de los encuentros más relevantes para la industria logística y de cadena de suministro en México. \nEste evento reúne a empresas\, líderes y profesionales del sector para hacer negocios\, capacitarse\, encontrar proveedores y generar networking entre pares de la industria. En un solo lugar\, los asistentes podrán descubrir una amplia variedad de productos\, servicios e innovaciones orientadas a mejorar los procesos logísticos y la eficiencia en la cadena de suministro. \nAdemás\, el evento ofrece espacios para intercambio de conocimiento\, aprendizaje y conexión con otros profesionales\, explorando los avances más recientes que están transformando el futuro de la logística. \nEn Vector Global Logistics\, creemos que mantenernos cerca de la industria y participar en estos espacios fortalece nuestra capacidad para generar impacto y operar con propósito\, impulsando soluciones logísticas cada vez más eficientes para nuestros clientes. \nSi estarás en el evento y te gustaría conversar sobre cómo generar impacto y eficiencia en tu cadena de suministro\, contáctanos para conectar durante el evento. \nailed.merida@vectorgl.com
URL:https://vectorgl.com/event/the-logistics-world-summit-expo/
LOCATION:centro banamex\, CDMX\, Mexico
END:VEVENT
END:VCALENDAR