BEGIN:VCALENDAR
VERSION:2.0
PRODID:-//Vector Global Logistics - ECPv6.15.20//NONSGML v1.0//EN
CALSCALE:GREGORIAN
METHOD:PUBLISH
X-ORIGINAL-URL:https://vectorgl.com
X-WR-CALDESC:Events for Vector Global Logistics
REFRESH-INTERVAL;VALUE=DURATION:PT1H
X-Robots-Tag:noindex
X-PUBLISHED-TTL:PT1H
BEGIN:VTIMEZONE
TZID:UTC
BEGIN:STANDARD
TZOFFSETFROM:+0000
TZOFFSETTO:+0000
TZNAME:UTC
DTSTART:20240101T000000
END:STANDARD
END:VTIMEZONE
BEGIN:VEVENT
DTSTART;VALUE=DATE:20250916
DTEND;VALUE=DATE:20250919
DTSTAMP:20260422T191550
CREATED:20250812T174343Z
LAST-MODIFIED:20250812T174343Z
UID:69704-1757980800-1758239999@vectorgl.com
SUMMARY:Consumer Impact Summit 2025
DESCRIPTION:Vector Global Logistics at the Consumer Impact Summit 2025 \nWe’re proud to share that our Chief Impact Officer\, Kristi Porter will be attending the Consumer Impact Summit 2025\, the premier event for purpose-driven consumer products\, taking place September 16–18\, 2025 in Bentonville\, Arkansas. \nThis inspiring summit brings together the brightest minds in the industry to exchange ideas\, spark innovation\, and explore solutions that create meaningful impact in the consumer products space. It’s a unique opportunity to connect with leaders who are shaping a more responsible and sustainable future. \nIf you’re attending\, we’d love to connect—let’s meet there and explore how we can create lasting impact together. \nLearn more about the event: Consumer Impact Summit \n\nKristi Porter: kristi.porter@vectorgl.com
URL:https://vectorgl.com/event/consumer-impact-summit-2025/
LOCATION:Bentonville\, Arkansas\, The Ledger Bentonville\, Bentonville\, AR\, United States
END:VEVENT
END:VCALENDAR