BEGIN:VCALENDAR
VERSION:2.0
PRODID:-//Vector Global Logistics - ECPv6.15.20//NONSGML v1.0//EN
CALSCALE:GREGORIAN
METHOD:PUBLISH
X-ORIGINAL-URL:https://vectorgl.com
X-WR-CALDESC:Events for Vector Global Logistics
REFRESH-INTERVAL;VALUE=DURATION:PT1H
X-Robots-Tag:noindex
X-PUBLISHED-TTL:PT1H
BEGIN:VTIMEZONE
TZID:UTC
BEGIN:STANDARD
TZOFFSETFROM:+0000
TZOFFSETTO:+0000
TZNAME:UTC
DTSTART:20240101T000000
END:STANDARD
END:VTIMEZONE
BEGIN:VEVENT
DTSTART;TZID=UTC:20250909T080000
DTEND;TZID=UTC:20250912T170000
DTSTAMP:20260420T173702
CREATED:20250812T173600Z
LAST-MODIFIED:20250812T173600Z
UID:69702-1757404800-1757696400@vectorgl.com
SUMMARY:B Corp Leadership Development - Southeast (BLD SE 2025)
DESCRIPTION:Vector Global Logistics Proudly Sponsors the BLD Southeast 2025 \nWe’re excited to announce that Vector Global Logistics is a proud sponsor of BLD Southeast 2025\, taking place September 9–12\, 2025 in St. Petersburg\, Florida—a dynamic gathering of Certified B Corps\, purpose-driven leaders\, and changemakers from across the Southeast and beyond. \nThis inspiring event is all about connection\, collaboration\, and co-creating solutions that lead to a more just\, equitable\, and sustainable future. It’s an incredible opportunity to share ideas\, strengthen partnerships\, and drive meaningful impact together. \nLearn more about the event and join us in making a difference: BLD Southeast
URL:https://vectorgl.com/event/b-corp-leadership-development-southeast-bld-se-2025/
LOCATION:University of South Florida\, St. Petersburg (USF)\, 33701\, St. Petersburg\, FL\, United States
END:VEVENT
BEGIN:VEVENT
DTSTART;VALUE=DATE:20250910
DTEND;VALUE=DATE:20250912
DTSTAMP:20260420T173702
CREATED:20250827T150347Z
LAST-MODIFIED:20250827T150347Z
UID:69753-1757462400-1757635199@vectorgl.com
SUMMARY:Automotive & Aerospace - Nearshoring Summit
DESCRIPTION:Automotive & Aerospace Nearshoring Summit 2025 will take place in Chihuahua\, Chih.\, alongside FEMIA’s Annual General Assembly (September 8–9). This premier event brings together industry leaders\, OEMs\, and plant managers to explore Mexico’s competitive advantages in the automotive and aerospace sectors. Attendees will gain insights into market trends\, labor productivity\, and emerging regional clusters\, while engaging in B2B meetings designed to foster collaboration and new business opportunities. \nFrom logistics strategies to cost operating models\, the Summit offers a comprehensive view of why Mexico is the next frontier for nearshoring. Vector Global Logistics will be represented by Vincenzo Calandrelli at this important gathering. \n  \nVincenzo Calandrelli: vincenzo.calandrelli@vectorgl.com \n 
URL:https://vectorgl.com/event/automotive-aerospace-nearshoring-summit/
LOCATION:Chihuahua\, Mexico
END:VEVENT
END:VCALENDAR