BEGIN:VCALENDAR
VERSION:2.0
PRODID:-//Vector Global Logistics - ECPv6.15.20//NONSGML v1.0//EN
CALSCALE:GREGORIAN
METHOD:PUBLISH
X-ORIGINAL-URL:https://vectorgl.com
X-WR-CALDESC:Events for Vector Global Logistics
REFRESH-INTERVAL;VALUE=DURATION:PT1H
X-Robots-Tag:noindex
X-PUBLISHED-TTL:PT1H
BEGIN:VTIMEZONE
TZID:UTC
BEGIN:STANDARD
TZOFFSETFROM:+0000
TZOFFSETTO:+0000
TZNAME:UTC
DTSTART:20240101T000000
END:STANDARD
END:VTIMEZONE
BEGIN:VEVENT
DTSTART;VALUE=DATE:20250903
DTEND;VALUE=DATE:20250904
DTSTAMP:20260420T173635
CREATED:20250812T184148Z
LAST-MODIFIED:20250812T184148Z
UID:69708-1756857600-1756943999@vectorgl.com
SUMMARY:Panama Supply Chain Forum - 2025
DESCRIPTION:Enrique Alvarez\, Co-Founder & Managing Director de Vector Global Logistics\, será speaker en el Panama Supply Chain Forum 2025 \nEl próximo 3 de septiembre en Ciudad de Panamá\, Enrique compartirá cómo la logística puede convertirse en una ventaja competitiva con impacto real. \nTema: Logística con Propósito: La Ventaja Competitiva que Mueve el Mundo \nUna sesión que va más allá de entregas y eficiencia\, explorando cómo transformar la cadena de suministro en una fuerza de impacto positivo. \nAgradecemos al equipo del Panama Supply Chain Forum por la invitación y por abrir espacio a conversaciones que realmente importan. \nEnrique Alvarez: enrique.alvarez@vectorgl.com \n_____________________________________________________________ \nEnrique Alvarez\, Co-Founder & Managing Director at Vector Global Logistics\, to Speak at the Panama Supply Chain Forum 2025 \nOn September 3 in Panama City\, Enrique will share how logistics can become a true competitive advantage with real-world impact. \nTopic: Logistics With Purpose: The Competitive Advantage That Moves the World \nThis session goes beyond deliveries and efficiency\, diving into how supply chains can be transformed into a force for positive impact. \nWe’re grateful to the Panama Supply Chain Forum team for the invitation and for creating space for conversations that truly matter. \nEnrique Alvarez: enrique.alvarez@vectorgl.com
URL:https://vectorgl.com/event/panama-supply-chain-forum-2025/
END:VEVENT
END:VCALENDAR